BEGIN:VCALENDAR
PRODID:-//AT Content Types//AT Event//EN
VERSION:1.0
BEGIN:VEVENT
DTSTART:20191101T080000Z
DTEND:20191101T090000Z
DCREATED:20190911T151711Z
UID:ATEvent-c4e146b92a1947c8bf839fbdf1ee53c1
SEQUENCE:0
LAST-MODIFIED:20190911T152123Z
SUMMARY:Professione perpetua in Costa d'Avorio
LOCATION:Adiapodoumé (Costa d'Avorio)
PRIORITY:3
TRANSP:0
END:VEVENT
END:VCALENDAR
