BEGIN:VCALENDAR
PRODID:-//AT Content Types//AT Event//EN
VERSION:1.0
BEGIN:VEVENT
DTSTART:20200305T080000Z
DTEND:20200313T170000Z
DCREATED:20200216T065420Z
UID:ATEvent-705c80cb11ce49839ba2aca7bc1e2db4
SEQUENCE:0
LAST-MODIFIED:20200216T065721Z
SUMMARY:Visita canonica nel Vicariato d'Italia
PRIORITY:3
TRANSP:0
END:VEVENT
END:VCALENDAR
