BEGIN:VCALENDAR
PRODID:-//AT Content Types//AT Event//EN
VERSION:2.0
METHOD:PUBLISH
BEGIN:VEVENT
DTSTAMP:20260423T202611Z
CREATED:20200701T073826Z
UID:ATEvent-66a6fc694eff4ec8bf6dcbb5aa9ff9b0
LAST-MODIFIED:20200701T074221Z
SUMMARY:Visita canonica del Superiore Generale nel Vicariato di Francia e Spagna
DTSTART:20200704T100000Z
DTEND:20200727T150000Z
LOCATION:Vicariato di Francia e Spagna
CLASS:PUBLIC
END:VEVENT
END:VCALENDAR
