BEGIN:VCALENDAR
PRODID:-//AT Content Types//AT Event//EN
VERSION:1.0
BEGIN:VEVENT
DTSTART:20200202T080000Z
DTEND:20200211T160000Z
DCREATED:20200207T154018Z
UID:ATEvent-9b950600ea044094abde6bb122f70e93
SEQUENCE:0
LAST-MODIFIED:20200207T154402Z
SUMMARY:Visita canonica del Superiore Generale nel Vicariato della Terra Santa
LOCATION:Terra Santa
PRIORITY:3
TRANSP:0
END:VEVENT
END:VCALENDAR
