BEGIN:VCALENDAR
PRODID:-//AT Content Types//AT Event//EN
VERSION:1.0
BEGIN:VEVENT
DTSTART:20240426T070000Z
DTEND:20240518T190000Z
DCREATED:20191004T121225Z
UID:ATEvent-497d7971d2734f0b83629e4a03cbf2a2
SEQUENCE:0
LAST-MODIFIED:20240327T075813Z
SUMMARY:Visita canonica del Superiore Generale nel Vicariato del Paraguay
LOCATION:Paraguay
PRIORITY:3
TRANSP:0
END:VEVENT
END:VCALENDAR
