BEGIN:VCALENDAR
PRODID:-//AT Content Types//AT Event//EN
VERSION:1.0
BEGIN:VEVENT
DTSTART:20221104T080000Z
DTEND:20221106T170000Z
DCREATED:20220727T065826Z
UID:ATEvent-9bbef232bd6546d9b953cbd317bfa448
SEQUENCE:0
LAST-MODIFIED:20220906T124148Z
SUMMARY:Pre-Capitolo Regionale nella Regione P. Augusto Etchecopar
PRIORITY:3
TRANSP:0
END:VEVENT
END:VCALENDAR
