BEGIN:VCALENDAR
PRODID:-//AT Content Types//AT Event//EN
VERSION:2.0
METHOD:PUBLISH
BEGIN:VEVENT
DTSTAMP:20260424T230839Z
CREATED:20190706T073858Z
UID:ATEvent-a0662a04f6414553ad84a293bf842d6a
LAST-MODIFIED:20230122T110749Z
SUMMARY:Ordinazione diaconale
DTSTART:20230122T080000Z
DTEND:20230122T140000Z
LOCATION:Betharram
CLASS:PUBLIC
END:VEVENT
END:VCALENDAR
