BEGIN:VCALENDAR
PRODID:-//AT Content Types//AT Event//EN
VERSION:2.0
METHOD:PUBLISH
BEGIN:VEVENT
DTSTAMP:20260424T235616Z
CREATED:20190914T070942Z
UID:ATEvent-74adb74d753c4e62b2e847882129e9cd
LAST-MODIFIED:20190914T071836Z
SUMMARY:Ordinazione sacerdotale in Argentina
DTSTART:20190921T170000Z
DTEND:20190921T190000Z
LOCATION:Barracas (Argentina)
CLASS:PUBLIC
END:VEVENT
END:VCALENDAR
