BEGIN:VCALENDAR
PRODID:-//AT Content Types//AT Event//EN
VERSION:2.0
METHOD:PUBLISH
BEGIN:VEVENT
DTSTAMP:20260425T232729Z
CREATED:20190706T072717Z
UID:ATEvent-f628e099d1d84786997bc81c7d939043
LAST-MODIFIED:20240116T092711Z
SUMMARY:Ordinazione sacerdotale del Diac. Stephen R. scj
DTSTART:20240118T083000Z
DTEND:20240118T110000Z
LOCATION:India
CLASS:PUBLIC
END:VEVENT
END:VCALENDAR
