BEGIN:VCALENDAR
PRODID:-//AT Content Types//AT Event//EN
VERSION:2.0
METHOD:PUBLISH
BEGIN:VEVENT
DTSTAMP:20260419T221754Z
CREATED:20250103T080148Z
UID:ATEvent-b52ec752fb784026872a4a4267f07169
LAST-MODIFIED:20250103T081240Z
SUMMARY:Ordinazione Diaconale
DTSTART:20250103T090000Z
DTEND:20250103T140000Z
LOCATION:The Holy Family Catholic Church\, Huay Bong
CLASS:PUBLIC
END:VEVENT
END:VCALENDAR
