BEGIN:VCALENDAR
PRODID:-//AT Content Types//AT Event//EN
VERSION:1.0
BEGIN:VEVENT
DTSTART:20210809T070000Z
DTEND:20210809T150000Z
DCREATED:20201215T110136Z
UID:ATEvent-96011e15020e47b3ac8435c3dcf79553
SEQUENCE:0
LAST-MODIFIED:20250731T065444Z
SUMMARY:Ordinazione diaconale di Fr. Anselm Prapas Chiwakitmankong e di Fr. Peter Do Van Hung
LOCATION:Lux Mundi Seminary\, Bangkok (Thailandia)
PRIORITY:3
TRANSP:0
END:VEVENT
END:VCALENDAR
