BEGIN:VCALENDAR
PRODID:-//AT Content Types//AT Event//EN
VERSION:1.0
BEGIN:VEVENT
DTSTART:20190805T070000Z
DTEND:20190812T170000Z
DCREATED:20190513T095619Z
UID:ATEvent-62f72a5784b444f7b46c4e422aa0dc44
SEQUENCE:0
LAST-MODIFIED:20190513T100921Z
SUMMARY:Il cammino di San Michele
DESCRIPTION:I giovani Italiani alla scoperta dei luoghi di vita di San
  Michele Garicoïts.
LOCATION:Betharram - Ibarre
PRIORITY:3
TRANSP:0
END:VEVENT
END:VCALENDAR
