BEGIN:VCALENDAR
PRODID:-//AT Content Types//AT Event//EN
VERSION:1.0
BEGIN:VEVENT
DTSTART:20240923T070000Z
DTEND:20240928T140000Z
DCREATED:20201113T141114Z
UID:ATEvent-896568e3148944b0854f5ec8eabfb008
SEQUENCE:0
LAST-MODIFIED:20240829T075148Z
SUMMARY:Consiglio Regionale della Regione "San Michele Garicoïts"
LOCATION:Roma - Casa Generalizia
PRIORITY:3
TRANSP:0
END:VEVENT
END:VCALENDAR
