BEGIN:VCALENDAR
PRODID:-//AT Content Types//AT Event//EN
VERSION:2.0
METHOD:PUBLISH
BEGIN:VEVENT
DTSTAMP:20260419T142109Z
CREATED:20230713T100959Z
UID:ATEvent-68ac0c7cee714148bab0d68aafa5598f
LAST-MODIFIED:20230713T101359Z
SUMMARY:Consiglio Generale
DTSTART:20230830T070000Z
DTEND:20230904T160000Z
LOCATION:Roma - Casa Generalizia
CLASS:PUBLIC
END:VEVENT
END:VCALENDAR
