BEGIN:VCALENDAR
PRODID:-//AT Content Types//AT Event//EN
VERSION:2.0
METHOD:PUBLISH
BEGIN:VEVENT
DTSTAMP:20260424T055609Z
CREATED:20191214T160022Z
UID:ATEvent-7a2d74ee21f44f01b5746e03080317a4
LAST-MODIFIED:20191214T160303Z
SUMMARY:Consiglio Generale
DTSTART:20191216T080000Z
DTEND:20191217T160000Z
LOCATION:Casa Generalizia - Roma
CLASS:PUBLIC
END:VEVENT
END:VCALENDAR
