BEGIN:VCALENDAR
PRODID:-//AT Content Types//AT Event//EN
VERSION:1.0
BEGIN:VEVENT
DTSTART:20210806T070000Z
DTEND:20210806T150000Z
DCREATED:20210407T114020Z
UID:ATEvent-4a5d2a33e6d64c478516d0ca8ae65665
SEQUENCE:0
LAST-MODIFIED:20210804T100502Z
SUMMARY:Consiglio Generale
DESCRIPTION:Riunione del Consiglio Generale
LOCATION:Roma - Casa Generalizia
PRIORITY:3
TRANSP:0
END:VEVENT
END:VCALENDAR
