BEGIN:VCALENDAR
PRODID:-//AT Content Types//AT Event//EN
VERSION:1.0
BEGIN:VEVENT
DTSTART:20190308T133000Z
DTEND:20190308T180000Z
DCREATED:20190227T133511Z
UID:ATEvent-915b2201b3384811b80884b0c1784a4d
SEQUENCE:0
LAST-MODIFIED:20190227T133742Z
SUMMARY:Consiglio di Vicariato d'Inghilterra
LOCATION:Great Barr
PRIORITY:3
TRANSP:0
END:VEVENT
END:VCALENDAR
