BEGIN:VCALENDAR
PRODID:-//AT Content Types//AT Event//EN
VERSION:1.0
BEGIN:VEVENT
DTSTART:20201118T123000Z
DTEND:20201121T153000Z
DCREATED:20201113T133927Z
UID:ATEvent-c8db12163a52478dadd82fe24e8c2462
SEQUENCE:0
LAST-MODIFIED:20201113T134258Z
SUMMARY:Consiglio di Congregazione
LOCATION:In videoconferenza
PRIORITY:3
TRANSP:0
END:VEVENT
END:VCALENDAR
