BEGIN:VCALENDAR
PRODID:-//AT Content Types//AT Event//EN
VERSION:2.0
METHOD:PUBLISH
BEGIN:VEVENT
DTSTAMP:20260419T221754Z
CREATED:20250114T135508Z
UID:ATEvent-b9dfc7eecc3846c3a4534aca34b18543
LAST-MODIFIED:20250114T135956Z
SUMMARY:Consiglio di Congregazione
DTSTART:20250128T070000Z
DTEND:20250209T110000Z
LOCATION:Bangalore (India)
CLASS:PUBLIC
END:VEVENT
END:VCALENDAR
