BEGIN:VCALENDAR
PRODID:-//AT Content Types//AT Event//EN
VERSION:1.0
BEGIN:VEVENT
DTSTART:20221107T080000Z
DTEND:20221109T170000Z
DCREATED:20220727T070432Z
UID:ATEvent-9fee5cb216bb48138474309e3c523e92
SEQUENCE:0
LAST-MODIFIED:20220727T071830Z
SUMMARY:Capitolo Regionale della Regione P. Augusto Etchecopar
PRIORITY:3
TRANSP:0
END:VEVENT
END:VCALENDAR
