BEGIN:VCALENDAR
PRODID:-//AT Content Types//AT Event//EN
VERSION:1.0
BEGIN:VEVENT
DTSTART:20200302T010000Z
DTEND:20200304T170000Z
DCREATED:20200211T093751Z
UID:ATEvent-b9ea480f8fa94fcb91e1a933a8726fc7
SEQUENCE:0
LAST-MODIFIED:20200211T094144Z
SUMMARY:Assemblea di Vicariato in Inghilterra
LOCATION:Shalowford House in Stone (Inghilterra)
PRIORITY:3
TRANSP:0
END:VEVENT
END:VCALENDAR
