BEGIN:VCALENDAR
PRODID:-//AT Content Types//AT Event//EN
VERSION:2.0
METHOD:PUBLISH
BEGIN:VEVENT
DTSTAMP:20260421T070632Z
CREATED:20200207T154018Z
UID:ATEvent-4890e73db059469ab7cd554c013766e6
LAST-MODIFIED:20200207T154402Z
SUMMARY:Visite canonique du Supérieur général au Vicariat de la Terre Sainte
DTSTART:20200202T080000Z
DTEND:20200211T160000Z
LOCATION:Terre Sainte
CLASS:PUBLIC
END:VEVENT
END:VCALENDAR
