BEGIN:VCALENDAR
PRODID:-//AT Content Types//AT Event//EN
VERSION:1.0
BEGIN:VEVENT
DTSTART:20240617T070000Z
DTEND:20240730T160000Z
DCREATED:20190403T071749Z
UID:ATEvent-691c4f1f593d4c7a9f08d76cda4f574a
SEQUENCE:0
LAST-MODIFIED:20240527T123742Z
SUMMARY:Visite canonique du Supérieur général au Vicariat de France et Espagne
LOCATION:France
PRIORITY:3
TRANSP:0
END:VEVENT
END:VCALENDAR
