BEGIN:VCALENDAR
PRODID:-//AT Content Types//AT Event//EN
VERSION:1.0
BEGIN:VEVENT
DTSTART:20200305T080000Z
DTEND:20200313T170000Z
DCREATED:20200216T065420Z
UID:ATEvent-23e92470d0534d7b89e367349139642b
SEQUENCE:0
LAST-MODIFIED:20200216T065721Z
SUMMARY:Visite canonique au Vicariat d'Italie
PRIORITY:3
TRANSP:0
END:VEVENT
END:VCALENDAR
