BEGIN:VCALENDAR
PRODID:-//AT Content Types//AT Event//EN
VERSION:1.0
BEGIN:VEVENT
DTSTART:20200728T070000Z
DTEND:20200728T150000Z
DCREATED:20200717T065445Z
UID:ATEvent-d322ba12975a4a269fc64fcc59fa94e9
SEQUENCE:0
LAST-MODIFIED:20200717T070934Z
SUMMARY:Solennité de N. D. de Bétharram et profession perpetuelle de F. Landry
LOCATION:Bétharram
PRIORITY:3
TRANSP:0
END:VEVENT
END:VCALENDAR
