BEGIN:VCALENDAR
PRODID:-//AT Content Types//AT Event//EN
VERSION:2.0
METHOD:PUBLISH
BEGIN:VEVENT
DTSTAMP:20260421T051037Z
CREATED:20240527T124840Z
UID:ATEvent-ec2c0317ba0a44f6817a5f935ceb7852
LAST-MODIFIED:20240527T125110Z
SUMMARY:Session internationale de formation pour les formateurs
DTSTART:20240701T070000Z
DTEND:20240707T150000Z
LOCATION:Bétharram
CLASS:PUBLIC
END:VEVENT
END:VCALENDAR
