BEGIN:VCALENDAR
PRODID:-//AT Content Types//AT Event//EN
VERSION:2.0
METHOD:PUBLISH
BEGIN:VEVENT
DTSTAMP:20260422T005421Z
CREATED:20210914T100048Z
UID:ATEvent-99261221dd0b4e74aba1661120410a38
LAST-MODIFIED:20210914T100942Z
SUMMARY:Rencontres du Conseil général avec les Supérieurs régionaux
DTSTART:20210917T070000Z
DTEND:20210917T100000Z
LOCATION:Visioconférence - Plateforme ZOOM
CLASS:PUBLIC
END:VEVENT
END:VCALENDAR
