BEGIN:VCALENDAR
PRODID:-//AT Content Types//AT Event//EN
VERSION:2.0
METHOD:PUBLISH
BEGIN:VEVENT
DTSTAMP:20260421T123057Z
CREATED:20200902T153552Z
UID:ATEvent-8f79fd8f378b4b91b56c65e7a2639831
LAST-MODIFIED:20200902T154459Z
SUMMARY:Profession perpétuelle en Côte d'Ivoire
DTSTART:20200912T073000Z
DTEND:20200912T093000Z
LOCATION:Adiapodoumé (Côte d'Ivoire)
CLASS:PUBLIC
END:VEVENT
END:VCALENDAR
