BEGIN:VCALENDAR
PRODID:-//AT Content Types//AT Event//EN
VERSION:2.0
METHOD:PUBLISH
BEGIN:VEVENT
DTSTAMP:20260425T002147Z
CREATED:20200720T114651Z
UID:ATEvent-be4830d144df4d5b89eadd7763b30b07
LAST-MODIFIED:20231214T161643Z
SUMMARY:Profession perpétuelle du F. Oscar Mendoza scj
DTSTART:20231220T090000Z
DTEND:20231220T120000Z
LOCATION:Paroisse San José - Asunción (Paraguay)
CLASS:PUBLIC
END:VEVENT
END:VCALENDAR
