BEGIN:VCALENDAR
PRODID:-//AT Content Types//AT Event//EN
VERSION:2.0
METHOD:PUBLISH
BEGIN:VEVENT
DTSTAMP:20260419T121430Z
CREATED:20180320T094247Z
UID:ATEvent-be9172706ead497585941aaf30ca0626
LAST-MODIFIED:20180320T094627Z
SUMMARY:Profession perpétuelle du F. Ismael Cristian Romero
DTSTART:20180408T073000Z
DTEND:20180408T100000Z
LOCATION:Colonia Juan Sinforiano Bogarin - San Joaquin (Paraguay)
CLASS:PUBLIC
END:VEVENT
END:VCALENDAR
