BEGIN:VCALENDAR
PRODID:-//AT Content Types//AT Event//EN
VERSION:2.0
METHOD:PUBLISH
BEGIN:VEVENT
DTSTAMP:20260421T051036Z
CREATED:20160506T125401Z
UID:ATEvent-85ce864a3e3a4a4e946300c0cf599260
LAST-MODIFIED:20160506T131851Z
SUMMARY:Pentecôte avec saint Michel Garicoïts
DTSTART:20160515T070000Z
DTEND:20160515T150000Z
LOCATION:Ibarre
CLASS:PUBLIC
END:VEVENT
END:VCALENDAR
