BEGIN:VCALENDAR
PRODID:-//AT Content Types//AT Event//EN
VERSION:2.0
METHOD:PUBLISH
BEGIN:VEVENT
DTSTAMP:20260425T020715Z
CREATED:20190706T073858Z
UID:ATEvent-53e1e30398ff43899baf91456e42b92c
LAST-MODIFIED:20230122T110749Z
SUMMARY:Ordination diaconale
DTSTART:20230122T080000Z
DTEND:20230122T140000Z
LOCATION:Bétharram
CLASS:PUBLIC
END:VEVENT
END:VCALENDAR
