BEGIN:VCALENDAR
PRODID:-//AT Content Types//AT Event//EN
VERSION:1.0
BEGIN:VEVENT
DTSTART:20190921T170000Z
DTEND:20190921T190000Z
DCREATED:20190914T070942Z
UID:ATEvent-f563115548ef4a7b97364de93981e9ac
SEQUENCE:0
LAST-MODIFIED:20190914T071836Z
SUMMARY:Ordination sacerdotale en Argentine.
LOCATION:Barracas (Argentine)
PRIORITY:3
TRANSP:0
END:VEVENT
END:VCALENDAR
