BEGIN:VCALENDAR
PRODID:-//AT Content Types//AT Event//EN
VERSION:2.0
METHOD:PUBLISH
BEGIN:VEVENT
DTSTAMP:20260424T215115Z
CREATED:20190706T072717Z
UID:ATEvent-18ba7db9f7524401b8080412105565ae
LAST-MODIFIED:20240116T092711Z
SUMMARY:Ordination sacerdotale du F. Stephen R. scj
DTSTART:20240118T083000Z
DTEND:20240118T110000Z
LOCATION:Inde
CLASS:PUBLIC
END:VEVENT
END:VCALENDAR
