BEGIN:VCALENDAR
PRODID:-//AT Content Types//AT Event//EN
VERSION:2.0
METHOD:PUBLISH
BEGIN:VEVENT
DTSTAMP:20260419T142111Z
CREATED:20171220T153101Z
UID:ATEvent-f17ee936aba640a3bfe9bd6bd232aed4
LAST-MODIFIED:20171220T153701Z
SUMMARY:Ordination sacerdotale
DTSTART:20180113T090000Z
DTEND:20180113T110000Z
LOCATION:Sacred Heart of Jesus Cathedral Chiang Mai (Thailand)
CLASS:PUBLIC
END:VEVENT
END:VCALENDAR
