BEGIN:VCALENDAR
PRODID:-//AT Content Types//AT Event//EN
VERSION:1.0
BEGIN:VEVENT
DTSTART:20250103T090000Z
DTEND:20250103T140000Z
DCREATED:20250103T080148Z
UID:ATEvent-acac5a6ffcd34c98808ef476d89741cf
SEQUENCE:0
LAST-MODIFIED:20250103T081240Z
SUMMARY:Ordination diaconale
LOCATION:The Holy Family Catholic Church\, Huay Bong
PRIORITY:3
TRANSP:0
END:VEVENT
END:VCALENDAR
