BEGIN:VCALENDAR
PRODID:-//AT Content Types//AT Event//EN
VERSION:2.0
METHOD:PUBLISH
BEGIN:VEVENT
DTSTAMP:20260421T085842Z
CREATED:20190513T095619Z
UID:ATEvent-f25ced1e88cb4653a2932e85fde7a12a
LAST-MODIFIED:20190513T100921Z
SUMMARY:Le chemin de St Michel
DTSTART:20190805T070000Z
DTEND:20190812T170000Z
DESCRIPTION:Les jeunes Italiens à la découverte des lieux de vie de 
 St Michel Garicoïts.
LOCATION:Bétharram - Ibarre
URL:https://www.facebook.com/betharrAmici/posts/816401482067854
CLASS:PUBLIC
END:VEVENT
END:VCALENDAR
