BEGIN:VCALENDAR
PRODID:-//AT Content Types//AT Event//EN
VERSION:2.0
METHOD:PUBLISH
BEGIN:VEVENT
DTSTAMP:20260423T040431Z
CREATED:20201113T140639Z
UID:ATEvent-7348e59047714c87af0f9e7a1d21a2a3
LAST-MODIFIED:20201113T140946Z
SUMMARY:Conseil régional
DTSTART:20201113T140000Z
DTEND:20201113T180000Z
LOCATION:En visioconférence
CLASS:PUBLIC
END:VEVENT
END:VCALENDAR
