BEGIN:VCALENDAR
PRODID:-//AT Content Types//AT Event//EN
VERSION:2.0
METHOD:PUBLISH
BEGIN:VEVENT
DTSTAMP:20260421T050939Z
CREATED:20230713T100959Z
UID:ATEvent-90236978e825463f8aaacf8ee2a2c351
LAST-MODIFIED:20230713T101359Z
SUMMARY:Conseil général
DTSTART:20230830T070000Z
DTEND:20230904T160000Z
LOCATION:Rome - Maison générale
CLASS:PUBLIC
END:VEVENT
END:VCALENDAR
