BEGIN:VCALENDAR
PRODID:-//AT Content Types//AT Event//EN
VERSION:2.0
METHOD:PUBLISH
BEGIN:VEVENT
DTSTAMP:20260421T123103Z
CREATED:20191214T160022Z
UID:ATEvent-e1868876be984fdfb657149e03b5591b
LAST-MODIFIED:20191214T160303Z
SUMMARY:Conseil général
DTSTART:20191216T080000Z
DTEND:20191217T160000Z
LOCATION:Maison générale - Rome
CLASS:PUBLIC
END:VEVENT
END:VCALENDAR
