BEGIN:VCALENDAR
PRODID:-//AT Content Types//AT Event//EN
VERSION:1.0
BEGIN:VEVENT
DTSTART:20250828T073000Z
DTEND:20250829T150000Z
DCREATED:20191114T081532Z
UID:ATEvent-bfdff66ec11a449a87c5aba693838a3d
SEQUENCE:0
LAST-MODIFIED:20250827T115146Z
SUMMARY:Conseil général
LOCATION:Rome - Maison générale
PRIORITY:3
TRANSP:0
END:VEVENT
END:VCALENDAR
