BEGIN:VCALENDAR
PRODID:-//AT Content Types//AT Event//EN
VERSION:1.0
BEGIN:VEVENT
DTSTART:20251020T070000Z
DTEND:20251021T150000Z
DCREATED:20190625T140853Z
UID:ATEvent-caf729b606584cd99ae99bb5e0a13e90
SEQUENCE:0
LAST-MODIFIED:20251010T073452Z
SUMMARY:Conseil général
LOCATION:Rome (Maison générale)
PRIORITY:3
TRANSP:0
END:VEVENT
END:VCALENDAR
