BEGIN:VCALENDAR
PRODID:-//AT Content Types//AT Event//EN
VERSION:1.0
BEGIN:VEVENT
DTSTART:20221019T070000Z
DTEND:20221023T150000Z
DCREATED:20220906T123700Z
UID:ATEvent-13785909baa24f65ab5f8bcc9875f900
SEQUENCE:0
LAST-MODIFIED:20220906T124222Z
SUMMARY:Chapitre Régional de la Région Saint Michel Garicoïts
LOCATION:France - Bétharram
PRIORITY:3
TRANSP:0
END:VEVENT
END:VCALENDAR
