BEGIN:VCALENDAR
PRODID:-//AT Content Types//AT Event//EN
VERSION:2.0
METHOD:PUBLISH
BEGIN:VEVENT
DTSTAMP:20260425T002158Z
CREATED:20220727T070432Z
UID:ATEvent-86d37238a1be47f38a113a8799982520
LAST-MODIFIED:20220727T071830Z
SUMMARY:Chapitre Régional de la Région P. Auguste Etchécopar
DTSTART:20221107T080000Z
DTEND:20221109T170000Z
CLASS:PUBLIC
END:VEVENT
END:VCALENDAR
