BEGIN:VCALENDAR
PRODID:-//AT Content Types//AT Event//EN
VERSION:1.0
BEGIN:VEVENT
DTSTART:20200302T010000Z
DTEND:20200304T170000Z
DCREATED:20200211T093751Z
UID:ATEvent-8ec3934316354a258b88ae03f5cc3038
SEQUENCE:0
LAST-MODIFIED:20200211T094144Z
SUMMARY:Assemblée du Vicariat en Angleterre
LOCATION:Shalowford House in Stone (Angleterre)
PRIORITY:3
TRANSP:0
END:VEVENT
END:VCALENDAR
