BEGIN:VCALENDAR
PRODID:-//AT Content Types//AT Event//EN
VERSION:1.0
BEGIN:VEVENT
DTSTART:20241030T160000Z
DTEND:20241115T170000Z
DCREATED:20191004T121757Z
UID:ATEvent-554ba23bcea24239a35a7c7de1ce2df3
SEQUENCE:0
LAST-MODIFIED:20241029T104748Z
SUMMARY:Visite canonique au Vicariat de la République Centrafricaine
LOCATION:Bangui - Bouar - Niem
PRIORITY:3
TRANSP:0
END:VEVENT
END:VCALENDAR
