BEGIN:VCALENDAR
PRODID:-//AT Content Types//AT Event//EN
VERSION:1.0
BEGIN:VEVENT
DTSTART:20180405T070000Z
DTEND:20180405T140000Z
DCREATED:20180216T141529Z
UID:ATEvent-1b287a8e0e9e454ab4ec083c28c3cfb0
SEQUENCE:0
LAST-MODIFIED:20180319T162852Z
SUMMARY:Assemblée de Vicariat en Italie
LOCATION:Albiate (MB)
PRIORITY:3
TRANSP:0
END:VEVENT
END:VCALENDAR
