BEGIN:VCALENDAR
PRODID:-//AT Content Types//AT Event//EN
VERSION:1.0
BEGIN:VEVENT
DTSTART:20180409T070000Z
DTEND:20180410T170000Z
DCREATED:20180326T121014Z
UID:ATEvent-a53dad736a1b477298aa0bae6393f3c6
SEQUENCE:0
LAST-MODIFIED:20180326T121319Z
SUMMARY:Assemblée de Vicariat en Inde
LOCATION:Bangalore
PRIORITY:3
TRANSP:0
END:VEVENT
END:VCALENDAR
