BEGIN:VCALENDAR
PRODID:-//AT Content Types//AT Event//EN
VERSION:2.0
METHOD:PUBLISH
BEGIN:VEVENT
DTSTAMP:20260419T134147Z
CREATED:20180510T083217Z
UID:ATEvent-40429be1147b474697d8387c53419b50
LAST-MODIFIED:20180510T084248Z
SUMMARY:90ème anniversaire de la bénédiction de la Chapelle Saint Michel Garicoïts à Bétharram
DTSTART:20180514T070000Z
DTEND:20180514T180000Z
LOCATION:Bétharram - Communication
CLASS:PUBLIC
END:VEVENT
END:VCALENDAR
