BEGIN:VCALENDAR
PRODID:-//AT Content Types//AT Event//EN
VERSION:2.0
METHOD:PUBLISH
BEGIN:VEVENT
DTSTAMP:20260424T224619Z
CREATED:20170325T101013Z
UID:ATEvent-f3987386705143eea524bebf1271667b
LAST-MODIFIED:20170325T101401Z
SUMMARY:XXVII Capitulo General
DTSTART:20170506T070000Z
DTEND:20170525T160000Z
LOCATION:San Bernardino (Paraguay)
CLASS:PUBLIC
END:VEVENT
END:VCALENDAR
